BEGIN:VCALENDAR
VERSION:2.0
PRODID:-//Tukios.com/
BEGIN:VEVENT
UID:9fc16113-5248-474d-bc64-5c4002bad0fe@www.brooksfh.com
DTSTAMP:20260424T203727Z
DTSTART:20260426T180000Z
DTEND:20260426T210000Z
SUMMARY:Visitation
DESCRIPTION:
URL:https://www.brooksfh.com/obituaries/cornelio-flores
LOCATION:Brooks Funeral Home 481 Gidney Ave  Newburgh NY 12550
GEO:41.5158439;-74.0303197
END:VEVENT
END:VCALENDAR