BEGIN:VCALENDAR
VERSION:2.0
PRODID:-//Tukios.com/
BEGIN:VEVENT
UID:1e4b32eb-86da-4a1b-b84a-5192781af569@www.brooksfh.com
DTSTAMP:20260424T203727Z
DTSTART:20260427T140000Z
DTEND:20260427T150000Z
SUMMARY:Mass
DESCRIPTION:
URL:https://www.brooksfh.com/obituaries/cornelio-flores
LOCATION:St. Patrick’s Church 55 Grand Street  Newburgh NY 12550
GEO:41.500978;-74.0099301
END:VEVENT
END:VCALENDAR