BEGIN:VCALENDAR
VERSION:2.0
PRODID:-//Tukios.com/
BEGIN:VEVENT
UID:4d8f737c-6ed4-4005-a49d-b6a7aa7eddd0@www.brooksfh.com
DTSTAMP:20260421T234408Z
DTSTART:20260428T140000Z
DTEND:20260428T160000Z
SUMMARY:Memorial Gathering
DESCRIPTION:
URL:https://www.brooksfh.com/obituaries/derek-sharon-adnams
LOCATION: 481 Gidney Ave  Newburgh NY 12550
GEO:41.5158439;-74.0303197
END:VEVENT
END:VCALENDAR