BEGIN:VCALENDAR
VERSION:2.0
PRODID:-//Tukios.com/
BEGIN:VEVENT
UID:b6dc4c00-c38d-475f-85b1-5c7be772e40c@www.brooksfh.com
DTSTAMP:20260421T233838Z
DTSTART:20260428T161500Z
DTEND:20260428T171500Z
SUMMARY:Inurnment
DESCRIPTION:
URL:https://www.brooksfh.com/obituaries/derek-sharon-adnams
LOCATION: 93 Union Avenue  New Windsor NY 12553
GEO:41.4763725;-74.0278089
END:VEVENT
END:VCALENDAR