BEGIN:VCALENDAR
VERSION:2.0
PRODID:-//Tukios.com/
BEGIN:VEVENT
UID:f2c3ca2e-239a-4252-a875-e472e40e8041@www.brooksfh.com
DTSTAMP:20260420T182124Z
DTSTART:20260424T140000Z
DTEND:20260424T150000Z
SUMMARY:Prayer Service
DESCRIPTION:
URL:https://www.brooksfh.com/obituaries/james-hawkins
LOCATION: 111 Craigville Road  Goshen NY 10924
GEO:41.40111;-74.300029
END:VEVENT
END:VCALENDAR