BEGIN:VCALENDAR
VERSION:2.0
PRODID:-//Tukios.com/
BEGIN:VEVENT
UID:a260d2bd-8fce-44ab-aeda-1900039b73aa@www.brooksfh.com
DTSTAMP:20260421T223727Z
DTSTART:20260620T140000Z
DTEND:20260620T150000Z
SUMMARY:Graveside Service
DESCRIPTION:
URL:https://www.brooksfh.com/obituaries/joseph-kovarnik
LOCATION:Cedar Hill Cemetery 5468 Rte 9W  Newburgh NY 12550
GEO:41.570748;-73.985817
END:VEVENT
END:VCALENDAR