BEGIN:VCALENDAR
VERSION:2.0
PRODID:-//Tukios.com/
BEGIN:VEVENT
UID:7d1f767a-94c7-45c7-a0fb-4a23f8b54630@www.brooksfh.com
DTSTAMP:20260419T164912Z
DTSTART:20260420T150000Z
DTEND:20260420T160000Z
SUMMARY:Funeral Service
DESCRIPTION:
URL:https://www.brooksfh.com/obituaries/richard-levin
LOCATION: 290 North Street  Newburgh NY 12550
GEO:41.5154704;-74.0246445
END:VEVENT
END:VCALENDAR