BEGIN:VCALENDAR
VERSION:2.0
PRODID:-//Tukios.com/
BEGIN:VEVENT
UID:fe0128bc-5208-46b8-a661-3de238ad6c86@www.brooksfh.com
DTSTAMP:20260424T224327Z
DTSTART:20260501T150000Z
DTEND:20260501T160000Z
SUMMARY:Visitation
DESCRIPTION:
URL:https://www.brooksfh.com/obituaries/ulee-johnson-sr
LOCATION:Church of God by Faith 29 Bridge Street  Newburgh NY 12550
GEO:41.4938184;-74.0176524
END:VEVENT
END:VCALENDAR