BEGIN:VCALENDAR
VERSION:2.0
PRODID:-//Tukios.com/
BEGIN:VEVENT
UID:ee7e6fe4-9ab9-4a65-b333-17100d613234@www.brooksfh.com
DTSTAMP:20260424T224144Z
DTSTART:20260501T160000Z
DTEND:20260501T170000Z
SUMMARY:Funeral Service
DESCRIPTION:
URL:https://www.brooksfh.com/obituaries/ulee-johnson-sr
LOCATION:Church of God by Faith 29 Bridge Street  Newburgh NY 12550
GEO:41.4938184;-74.0176524
END:VEVENT
END:VCALENDAR